BEGIN:VCALENDAR
VERSION:2.0
PRODID:-//Squarespace Inc/Squarespace 6//v6//EN
BEGIN:VEVENT
UID:558a1d6de4b00d8fbb64b365@squarespace.com
DTSTAMP:20150624T030139Z
DTSTART:20160114T034500Z
DTEND:20160114T071500Z
SUMMARY:Dinner In The Domain
GEO:-37.710751;176.322905
LOCATION:Dinner In The Domain\, Papamoa Domain\, Papamoa Beach Road\, New Z
 ealand
END:VEVENT
END:VCALENDAR
