BEGIN:VCALENDAR
VERSION:2.0
PRODID:-//Squarespace Inc/Squarespace 6//v6//EN
BEGIN:VEVENT
UID:558a001be4b01285c1bc73a5@squarespace.com
DTSTAMP:20151023T222627Z
DTSTART:20160101T191500Z
DTEND:20160102T001500Z
SUMMARY:The Little Big Markets - Mount Maunganui
GEO:-37.647217;176.190764
LOCATION:The Little Big Markets\, Corner Matai St and Maunganui Rd\, Mount 
 Maunganui\, New Zealand
END:VEVENT
END:VCALENDAR
