BEGIN:VCALENDAR
VERSION:2.0
PRODID:-//Squarespace Inc/Squarespace 6//v6//EN
BEGIN:VEVENT
UID:558a1d9be4b096519cd021f8@squarespace.com
DTSTAMP:20150624T030228Z
DTSTART:20160121T034500Z
DTEND:20160121T071500Z
SUMMARY:Dinner In The Domain
GEO:-37.710751;176.322905
LOCATION:Dinner In The Domain\, Papamoa Domain\, Papamoa Beach Road\, New Z
 ealand
END:VEVENT
END:VCALENDAR
