BEGIN:VCALENDAR
VERSION:2.0
PRODID:-//Squarespace Inc/Squarespace 6//v6//EN
BEGIN:VEVENT
UID:558b52d2e4b084bef1ca4b2c@squarespace.com
DTSTAMP:20150625T010202Z
DTSTART:20160122T191500Z
DTEND:20160123T001500Z
SUMMARY:Victoria Park Market - Auckland
GEO:-36.848321;174.754371
LOCATION:Victoria Park Market\, 210 - 218 Victoria Street West\, Auckland\, 
 New Zealand
END:VEVENT
END:VCALENDAR
