BEGIN:VCALENDAR
VERSION:2.0
PRODID:-//Squarespace Inc/Squarespace 6//v6//EN
BEGIN:VEVENT
UID:558b5269e4b065aecbf0c430@squarespace.com
DTSTAMP:20150625T010003Z
DTSTART:20160108T191500Z
DTEND:20160109T001500Z
SUMMARY:Victoria Park Market - Auckland
GEO:-36.848321;174.754371
LOCATION:Victoria Park Market\, 210 - 218 Victoria Street West\, Auckland\, 
 New Zealand
END:VEVENT
END:VCALENDAR
