BEGIN:VCALENDAR
VERSION:2.0
PRODID:-//Squarespace Inc/Squarespace 6//v6//EN
BEGIN:VEVENT
UID:558a0073e4b050b2d0dc7c3f@squarespace.com
DTSTAMP:20151023T222600Z
DTSTART:20160205T191500Z
DTEND:20160206T001500Z
SUMMARY:The Little Big Markets - Mount Maunganui
GEO:-37.647217;176.190764
LOCATION:The Little Big Markets\, Corner Matai St and Maunganui Rd\, Mount 
 Maunganui\, New Zealand
END:VEVENT
END:VCALENDAR
