BEGIN:VCALENDAR
VERSION:2.0
PRODID:-//Squarespace Inc/Squarespace 6//v6//EN
BEGIN:VEVENT
UID:57c8fbb66a49630f05b2e8a2@squarespace.com
DTSTAMP:20160908T223701Z
DTSTART:20160930T031500Z
DTEND:20160930T061500Z
SUMMARY:Street Food Union
GEO:-39.073847;174.278338
LOCATION:Soper Reserve\, 95 Newton Street\, Mount Maunganui\, New Zealand
END:VEVENT
END:VCALENDAR
