BEGIN:VCALENDAR
VERSION:2.0
PRODID:-//Squarespace Inc/Squarespace 6//v6//EN
BEGIN:VEVENT
UID:57d1e7083e00be654df68d32@squarespace.com
DTSTAMP:20160908T223643Z
DTSTART:20170102T201500Z
DTEND:20170103T011500Z
SUMMARY:Beast of a Feast - Session 1
GEO:-37.661388;176.204059
LOCATION:Soper Reserve\, 95 Newton Street\, Tauranga\, Bay Of Plenty\, 3116
 \, New Zealand
END:VEVENT
END:VCALENDAR
