BEGIN:VCALENDAR
VERSION:2.0
PRODID:-//Squarespace Inc/Squarespace 6//v6//EN
BEGIN:VEVENT
UID:57c8fecde6f2e152c45718a5@squarespace.com
DTSTAMP:20160902T042413Z
DTSTART:20170106T031500Z
DTEND:20170106T061500Z
SUMMARY:Street Food Union
GEO:-37.661388;176.204059
LOCATION:Soper Reserve\, 95 Newton Street\, Mount Maunganui\, New Zealand
END:VEVENT
END:VCALENDAR
