BEGIN:VCALENDAR
VERSION:2.0
PRODID:-//Squarespace Inc/Squarespace 6//v6//EN
BEGIN:VEVENT
UID:577304ec59cc681362665a16@squarespace.com
DTSTAMP:20160628T231552Z
DTSTART:20161202T191500Z
DTEND:20161203T001500Z
SUMMARY:The Little Big Markets - Mount Maunganui
GEO:-37.640645;176.183758
LOCATION:The Little Big Markets\, Coronation Park\, Mount Maunganui\, New Z
 ealand
END:VEVENT
END:VCALENDAR
