BEGIN:VCALENDAR
VERSION:2.0
PRODID:-//Squarespace Inc/Squarespace 6//v6//EN
BEGIN:VEVENT
UID:57c8fea4e3df2808f0a5e0cb@squarespace.com
DTSTAMP:20160902T042332Z
DTSTART:20161230T031500Z
DTEND:20161230T061500Z
SUMMARY:Street Food Union
GEO:-37.661388;176.204059
LOCATION:Soper Reserve\, 95 Newton Street\, Mount Maunganui\, New Zealand
END:VEVENT
END:VCALENDAR
