BEGIN:VCALENDAR
VERSION:2.0
PRODID:-//Squarespace Inc/Squarespace 6//v6//EN
BEGIN:VEVENT
UID:56f4941c746fb9744eba6abd@squarespace.com
DTSTAMP:20160325T012825Z
DTSTART:20160610T044500Z
DTEND:20160610T064500Z
SUMMARY:Food Truck Friday
GEO:-37.654404;176.197408
LOCATION:Food Truck Friday\, 5 Hull Road\, Tauranga\, Bay Of Plenty\, 3116\
 , New Zealand
END:VEVENT
END:VCALENDAR
