BEGIN:VCALENDAR
VERSION:2.0
PRODID:-//Squarespace Inc/Squarespace 6//v6//EN
BEGIN:VEVENT
UID:56eb29324c2f85fadc7d00a1@squarespace.com
DTSTAMP:20160408T000925Z
DTSTART:20160408T201500Z
DTEND:20160409T001500Z
SUMMARY:The Little Big Events - Mount Maunganui
GEO:-37.647217;176.190764
LOCATION:The Little Big Markets\, Corner Matai St and Maunganui Rd\, Mount 
 Maunganui\, New Zealand
END:VEVENT
END:VCALENDAR
