BEGIN:VCALENDAR
VERSION:2.0
PRODID:-//Squarespace Inc/Squarespace 6//v6//EN
BEGIN:VEVENT
UID:560f3c03e4b01402b8ffe0e8@squarespace.com
DTSTAMP:20151003T022456Z
DTSTART:20151016T191500Z
DTEND:20151017T001500Z
SUMMARY:Tia's Tacos 1st Birthday
GEO:-37.732949;176.298201
LOCATION:Tia's Tacos\, Papamoa Domain\, Papamao Beach Road\, New Zealand
END:VEVENT
END:VCALENDAR
