BEGIN:VCALENDAR
VERSION:2.0
PRODID:-//Squarespace Inc/Squarespace 6//v6//EN
BEGIN:VEVENT
UID:560dd08ee4b0659b381cd793@squarespace.com
DTSTAMP:20151002T003713Z
DTSTART:20160130T231500Z
DTEND:20160131T081500Z
SUMMARY:On The Lawn
GEO:-37.652546;176.192339
LOCATION:On The Lawn\, Blake Park\, Mount Maunganui\, 3116\, New Zealand
END:VEVENT
END:VCALENDAR
