BEGIN:VCALENDAR
VERSION:2.0
PRODID:-//Squarespace Inc/Squarespace 6//v6//EN
BEGIN:VEVENT
UID:59e681c8b1ffb64ca46291b6@squarespace.com
DTSTAMP:20171017T221943Z
DTSTART:20180216T191500Z
DTEND:20180217T001500Z
SUMMARY:The Little Big Markets Papamoa
GEO:-37.694233;176.278298
LOCATION:The Little Big Markets\, 491 Papamoa Beach Road\, Papamoa\, Bay Of 
 Plenty\, 3118\, New Zealand
END:VEVENT
END:VCALENDAR
