BEGIN:VCALENDAR
VERSION:2.0
PRODID:-//Squarespace Inc/Squarespace 6//v6//EN
BEGIN:VEVENT
UID:5772fe63d2b8570c39f93469@squarespace.com
DTSTAMP:20160805T050904Z
DTSTART:20161231T031500Z
DTEND:20161231T101400Z
SUMMARY:'Street Food Union' presents New Year's Eve
GEO:-37.642303;176.192553
LOCATION:Marine Parade\, Mount Maunganui\, New Zealand
END:VEVENT
END:VCALENDAR
