BEGIN:VCALENDAR
VERSION:2.0
PRODID:-//Squarespace Inc/Squarespace 6//v6//EN
BEGIN:VEVENT
UID:59e68a90a803bbeb8a2d73bf@squarespace.com
DTSTAMP:20171017T225652Z
DTSTART:20180215T034500Z
DTEND:20180215T064500Z
SUMMARY:Dinner in the Domain
GEO:-37.703455;176.301585
LOCATION:Dinner in the Domain\, Papamoa Beach Road\, Papamoa\, New Zealand
END:VEVENT
END:VCALENDAR
