BEGIN:VCALENDAR
VERSION:2.0
PRODID:-//Squarespace Inc/Squarespace 6//v6//EN
BEGIN:VEVENT
UID:5711d491ab48dea6459df6dd@squarespace.com
DTSTAMP:20160628T231427Z
DTSTART:20161008T041500Z
DTEND:20161008T081459Z
SUMMARY:Just BeCause - Movie
END:VEVENT
END:VCALENDAR
