BEGIN:VCALENDAR
VERSION:2.0
PRODID:-//Squarespace Inc/Squarespace 6//v6//EN
BEGIN:VEVENT
UID:577306bed482e904199953e1@squarespace.com
DTSTAMP:20160908T223912Z
DTSTART:20161118T191500Z
DTEND:20161119T001500Z
SUMMARY:The Little Big Markets - Papamoa
GEO:-37.694233;176.278298
LOCATION:Papamoa Pony Club\, 491 Papamoa Beach Road\, Papamoa\, Bay Of Plen
 ty\, 3118\, New Zealand
END:VEVENT
END:VCALENDAR
