BEGIN:VCALENDAR
VERSION:2.0
PRODID:-//Squarespace Inc/Squarespace 6//v6//EN
BEGIN:VEVENT
UID:59e67ec5017db219dbb69359@squarespace.com
DTSTAMP:20171017T220641Z
DTSTART:20180119T191500Z
DTEND:20180120T001500Z
SUMMARY:The Little Big Markets Mount Maunganui
GEO:-37.640645;176.183758
LOCATION:The Little Big Markets\, Coronation Park\, Mount Maunganui\, New Z
 ealand
END:VEVENT
END:VCALENDAR
