BEGIN:VCALENDAR
VERSION:2.0
PRODID:-//Squarespace Inc/Squarespace 6//v6//EN
BEGIN:VEVENT
UID:57a41b3d9f74560388743e8a@squarespace.com
DTSTAMP:20160805T045157Z
DTSTART:20161217T041500Z
DTEND:20161217T084500Z
SUMMARY:Night Owl Cinema
GEO:-37.634646;176.183123
LOCATION:Night Owl Cinema\, Mount Drury\, Mount Maungaunui\, New Zealand
END:VEVENT
END:VCALENDAR
