BEGIN:VCALENDAR
VERSION:2.0
PRODID:-//Squarespace Inc/Squarespace 6//v6//EN
BEGIN:VEVENT
UID:57730b4e8419c2f1416d27c3@squarespace.com
DTSTAMP:20160628T234237Z
DTSTART:20170112T034500Z
DTEND:20170112T071500Z
SUMMARY:Dinner in the Domain
GEO:-37.703695;176.302394
LOCATION:Dinner in the Domain\, Papamoa Beach Road\, Papamoa\, Bay Of Plent
 y\, New Zealand
END:VEVENT
END:VCALENDAR
