BEGIN:VCALENDAR
VERSION:2.0
PRODID:-//Squarespace Inc/Squarespace 6//v6//EN
BEGIN:VEVENT
UID:56eb2dc120c647e7ec4f9725@squarespace.com
DTSTAMP:20160317T222140Z
DTSTART:20160521T211500Z
DTEND:20160522T021500Z
SUMMARY:The Little Big Vintage Markets
GEO:-37.636114;176.18231
LOCATION:Astrolabe\, 82 Maunganui Road\, Tauranga\, Bay Of Plenty\, 3116\, 
 New Zealand
END:VEVENT
END:VCALENDAR
