BEGIN:VCALENDAR
VERSION:2.0
PRODID:-//Squarespace Inc/Squarespace 6//v6//EN
BEGIN:VEVENT
UID:5604bcfbe4b0d4b8f089edb7@squarespace.com
DTSTAMP:20150925T033407Z
DTSTART:20151016T034500Z
DTEND:20151016T071500Z
SUMMARY:Just Eat It - Movie Screening
GEO:-37.685396;176.170033
LOCATION:Studio 145\, 145 The Strand\, Tauranga\, Bay Of Plenty\, 3110\, Ne
 w Zealand
END:VEVENT
END:VCALENDAR
