BEGIN:VCALENDAR
VERSION:2.0
PRODID:-//Squarespace Inc/Squarespace 6//v6//EN
BEGIN:VEVENT
UID:57c8fc8ccd0f68572e790516@squarespace.com
DTSTAMP:20160902T041445Z
DTSTART:20161014T031500Z
DTEND:20161014T061500Z
SUMMARY:Street Food Union
GEO:-37.661388;176.204059
LOCATION:Soper Reserve\, 95 Newton Street\, Mount Maunganui\, New Zealand
END:VEVENT
END:VCALENDAR
