BEGIN:VCALENDAR
VERSION:2.0
PRODID:-//Squarespace Inc/Squarespace 6//v6//EN
BEGIN:VEVENT
UID:57730a3c414fb51a8f622c56@squarespace.com
DTSTAMP:20160628T233802Z
DTSTART:20161215T034500Z
DTEND:20161215T071500Z
SUMMARY:Dinner in the Domain
GEO:-37.703695;176.302394
LOCATION:Dinner in the Domain\, Papamoa Beach Road\, Papamoa\, Bay Of Plent
 y\, New Zealand
END:VEVENT
END:VCALENDAR
