BEGIN:VCALENDAR
VERSION:2.0
PRODID:-//Squarespace Inc/Squarespace 6//v6//EN
BEGIN:VEVENT
UID:5773046c59cc6813626654b5@squarespace.com
DTSTAMP:20160628T231420Z
DTSTART:20161104T191500Z
DTEND:20161105T001500Z
SUMMARY:The Little Big Markets - Mount Maunganui
GEO:-37.640645;176.183758
LOCATION:The Little Big Markets\, Coronation Park\, Mount Maunganui\, New Z
 ealand
END:VEVENT
END:VCALENDAR
